BEGIN:VCALENDAR
VERSION:2.0
PRODID:-//ECITB//NONSGML Events //EN
CALSCALE:GREGORIAN
X-WR-CALNAME:ECITB - Events
BEGIN:VEVENT
UID:395912-20260923T000000
DTSTAMP:20260420T123646
CREATED:20260410T133227
DTSTART:20260923T000000
DTEND:20260923T235959
SUMMARY:CCNSG Renewal
LOCATION:Birmingham
ORGANIZER:Kingscote Limited T/A Webbs Training Services
END:VEVENT
END:VCALENDAR