BEGIN:VCALENDAR
VERSION:2.0
PRODID:-//ECITB//NONSGML Events //EN
CALSCALE:GREGORIAN
X-WR-CALNAME:ECITB - Events
BEGIN:VEVENT
UID:395908-20270330T000000
DTSTAMP:20260421T122606
CREATED:20260410T133228
DTSTART:20270330T000000
DTEND:20270331T235959
SUMMARY:CCNSG National
LOCATION:Bristol, BS20 7FS
ORGANIZER:SHEQ Services Ltd
END:VEVENT
END:VCALENDAR