BEGIN:VCALENDAR
VERSION:2.0
PRODID:-//ECITB//NONSGML Events //EN
CALSCALE:GREGORIAN
X-WR-CALNAME:ECITB - Events
BEGIN:VEVENT
UID:395881-20261005T000000
DTSTAMP:20260422T125505
CREATED:20260410T133229
DTSTART:20261005T000000
DTEND:20261006T235959
SUMMARY:CCNSG National
LOCATION: Scunthorpe, DN16 3RN
ORGANIZER:NLT Training Services Ltd
END:VEVENT
END:VCALENDAR