BEGIN:VCALENDAR
VERSION:2.0
PRODID:-//ECITB//NONSGML Events //EN
CALSCALE:GREGORIAN
X-WR-CALNAME:ECITB - Events
BEGIN:VEVENT
UID:395877-20261007T000000
DTSTAMP:20260422T125428
CREATED:20260410T133225
DTSTART:20261007T000000
DTEND:20261008T235959
SUMMARY:CCNSG National
LOCATION:DY8 1TA
ORGANIZER:ACT Associates Ltd
END:VEVENT
END:VCALENDAR