BEGIN:VCALENDAR
VERSION:2.0
PRODID:-//ECITB//NONSGML Events //EN
CALSCALE:GREGORIAN
X-WR-CALNAME:ECITB - Events
BEGIN:VEVENT
UID:395865-20261005T000000
DTSTAMP:20260422T124325
CREATED:20260410T133228
DTSTART:20261005T000000
DTEND:20261005T235959
SUMMARY:CCNSG Leading a Team Safely
LOCATION:DY8 1TA
ORGANIZER:ACT Associates Ltd
END:VEVENT
END:VCALENDAR