BEGIN:VCALENDAR
VERSION:2.0
PRODID:-//ECITB//NONSGML Events //EN
CALSCALE:GREGORIAN
X-WR-CALNAME:ECITB - Events
BEGIN:VEVENT
UID:395861-20260603T000000
DTSTAMP:20260421T140705
CREATED:20260410T133228
DTSTART:20260603T000000
DTEND:20260603T235959
SUMMARY:Hand Torque Bolted Connections
LOCATION:Aberdeen, AB21 0GU
ORGANIZER:Hydratight Ltd
END:VEVENT
END:VCALENDAR