BEGIN:VCALENDAR
VERSION:2.0
PRODID:-//ECITB//NONSGML Events //EN
CALSCALE:GREGORIAN
X-WR-CALNAME:ECITB - Events
BEGIN:VEVENT
UID:395859-20260827T000000
DTSTAMP:20260420T102152
CREATED:20260410T133229
DTSTART:20260827T000000
DTEND:20260828T235959
SUMMARY:CCNSG National
LOCATION:Bristol, BS20 7FS
ORGANIZER:SHEQ Services Ltd
END:VEVENT
END:VCALENDAR