BEGIN:VCALENDAR
VERSION:2.0
PRODID:-//ECITB//NONSGML Events //EN
CALSCALE:GREGORIAN
X-WR-CALNAME:ECITB - Events
BEGIN:VEVENT
UID:395843-20260519T000000
DTSTAMP:20260421T192833
CREATED:20260410T133227
DTSTART:20260519T000000
DTEND:20260521T235959
SUMMARY:Torque and Tension Bolted Connections
LOCATION:Aberdeen, AB21 0GU
ORGANIZER:Hydratight Ltd
END:VEVENT
END:VCALENDAR