BEGIN:VCALENDAR
VERSION:2.0
PRODID:-//ECITB//NONSGML Events //EN
CALSCALE:GREGORIAN
X-WR-CALNAME:ECITB - Events
BEGIN:VEVENT
UID:395840-20260619T000000
DTSTAMP:20260421T122329
CREATED:20260410T133228
DTSTART:20260619T000000
DTEND:20260619T235959
SUMMARY:CCNSG Renewal
LOCATION:Bristol, BS20 7FS
ORGANIZER:SHEQ Services Ltd
END:VEVENT
END:VCALENDAR