BEGIN:VCALENDAR
VERSION:2.0
PRODID:-//ECITB//NONSGML Events //EN
CALSCALE:GREGORIAN
X-WR-CALNAME:ECITB - Events
BEGIN:VEVENT
UID:395834-20260617T000000
DTSTAMP:20260421T090043
CREATED:20260410T133229
DTSTART:20260617T000000
DTEND:20260617T235959
SUMMARY:ECITB Firewatcher
LOCATION:Bristol, BS20 7FS
ORGANIZER:SHEQ Services Ltd
END:VEVENT
END:VCALENDAR