BEGIN:VCALENDAR
VERSION:2.0
PRODID:-//ECITB//NONSGML Events //EN
CALSCALE:GREGORIAN
X-WR-CALNAME:ECITB - Events
BEGIN:VEVENT
UID:395821-20261126T000000
DTSTAMP:20260424T095633
CREATED:20260410T133231
DTSTART:20261126T000000
DTEND:20261126T235959
SUMMARY:CCNSG Renewal
LOCATION:Birmingham
ORGANIZER:Kingscote Limited T/A Webbs Training Services
END:VEVENT
END:VCALENDAR