BEGIN:VCALENDAR
VERSION:2.0
PRODID:-//ECITB//NONSGML Events //EN
CALSCALE:GREGORIAN
X-WR-CALNAME:ECITB - Events
BEGIN:VEVENT
UID:395803-20260618T000000
DTSTAMP:20260421T122633
CREATED:20260410T133229
DTSTART:20260618T000000
DTEND:20260618T235959
SUMMARY:CCNSG Renewal
LOCATION:Bradford, BD3 8JX
ORGANIZER:GSS Training Limited
END:VEVENT
END:VCALENDAR